View In:
ArcGIS JavaScript
ArcGIS Online Map Viewer
ArcGIS Earth
Service Description: Imagery/2015_Sansa
Name: Imagery/2015_Sansa
Description:
Single Fused Map Cache: false
Extent:
XMin: 28.065610009000068
YMin: -26.465579519757
XMax: 28.527152866142924
YMax: -25.90340809118557
Spatial Reference: 4326
(4326)
LatestVCSWkid(0)
Initial Extent:
XMin: 28.065610009000068
YMin: -26.465579519757
XMax: 28.527152866142924
YMax: -25.90340809118557
Spatial Reference: 4326
(4326)
LatestVCSWkid(0)
Full Extent:
XMin: 28.065610009000068
YMin: -26.465579519757
XMax: 28.527152866142924
YMax: -25.90340809118557
Spatial Reference: 4326
(4326)
LatestVCSWkid(0)
Pixel Size X: 1.4285714285714248E-5
Pixel Size Y: 1.4285714285714279E-5
Band Count: 3
Pixel Type: U16
RasterFunction Infos: {"rasterFunctionInfos": [{
"name": "None",
"description": "",
"help": ""
}]}
Mensuration Capabilities: Basic
Inspection Capabilities:
Has Histograms: true
Has Colormap: false
Has Multi Dimensions : false
Rendering Rule:
Min Scale: 0
Max Scale: 0
Copyright Text:
Service Data Type: esriImageServiceDataTypeGeneric
Min Values: 0, 0, 0
Max Values: 255, 255, 255
Mean Values: 87.15139007829679, 95.22043447013598, 94.14010067803775
Standard Deviation Values: 49.06022171986388, 45.56324893603787, 47.72035066675164
Object ID Field:
Fields:
None
Default Mosaic Method: Center
Allowed Mosaic Methods:
SortField:
SortValue: null
Mosaic Operator: First
Default Compression Quality: 75
Default Resampling Method: Bilinear
Max Record Count: null
Max Image Height: 4100
Max Image Width: 15000
Max Download Image Count: null
Max Mosaic Image Count: null
Allow Raster Function: true
Allow Copy: true
Allow Analysis: true
Allow Compute TiePoints: false
Supports Statistics: false
Supports Advanced Queries: false
Use StandardizedQueries: true
Raster Type Infos:
Name: Raster Dataset
Description: Supports all ArcGIS Raster Datasets
Help:
Has Raster Attribute Table: false
Edit Fields Info: null
Ownership Based AccessControl For Rasters: null
Child Resources:
Info
Histograms
Statistics
Key Properties
Legend
Raster Function Infos
Supported Operations:
Export Image
Identify
Measure
Compute Histograms
Compute Statistics Histograms
Get Samples
Compute Class Statistics
Query Boundary
Compute Pixel Location
Compute Angles
Validate
Project